BEGIN:VCALENDAR
VERSION:2.0
PRODID:-//Mad Mike&#039;s American Gourmet - ECPv6.15.17.1//NONSGML v1.0//EN
CALSCALE:GREGORIAN
METHOD:PUBLISH
X-WR-CALNAME:Mad Mike&#039;s American Gourmet
X-ORIGINAL-URL:https://madmikesstore.com
X-WR-CALDESC:Events for Mad Mike&#039;s American Gourmet
REFRESH-INTERVAL;VALUE=DURATION:PT1H
X-Robots-Tag:noindex
X-PUBLISHED-TTL:PT1H
BEGIN:VTIMEZONE
TZID:America/Los_Angeles
BEGIN:DAYLIGHT
TZOFFSETFROM:-0800
TZOFFSETTO:-0700
TZNAME:PDT
DTSTART:20240310T100000
END:DAYLIGHT
BEGIN:STANDARD
TZOFFSETFROM:-0700
TZOFFSETTO:-0800
TZNAME:PST
DTSTART:20241103T090000
END:STANDARD
BEGIN:DAYLIGHT
TZOFFSETFROM:-0800
TZOFFSETTO:-0700
TZNAME:PDT
DTSTART:20250309T100000
END:DAYLIGHT
BEGIN:STANDARD
TZOFFSETFROM:-0700
TZOFFSETTO:-0800
TZNAME:PST
DTSTART:20251102T090000
END:STANDARD
BEGIN:DAYLIGHT
TZOFFSETFROM:-0800
TZOFFSETTO:-0700
TZNAME:PDT
DTSTART:20260308T100000
END:DAYLIGHT
BEGIN:STANDARD
TZOFFSETFROM:-0700
TZOFFSETTO:-0800
TZNAME:PST
DTSTART:20261101T090000
END:STANDARD
END:VTIMEZONE
BEGIN:VEVENT
DTSTART;TZID=America/Los_Angeles:20250607T110000
DTEND;TZID=America/Los_Angeles:20250607T160000
DTSTAMP:20260423T155121
CREATED:20250528T221446Z
LAST-MODIFIED:20250528T221446Z
UID:10926-1749294000-1749312000@madmikesstore.com
SUMMARY:Shadow Mountain
DESCRIPTION:Mad Mike’s will be selling jars and snack food items on Saturday June 7th at Shadow Mountain Winery from 11-4 \nHead out to the Warner Springs area for the Warner Springs Wine & Art Trail!\nEnjoy a self-guided driving tour on Hwy 79 South through picturesque\, historic North San Diego County. Spend the day or weekend discovering the unique vistas and hidden gems of the beautiful Background north of Warner Springs. Browse original art and one-of-a-kind\, hand-crafted works by professional artists and talented artisans. Escape the crowds elsewhere by visiting charming\, award winning wineries. Experience the heartfelt hospitality and peaceful pace of a rural region reminiscent of Old California. \n 
URL:https://madmikesstore.com/event/shadow-mountain/
LOCATION:Shadow Mountain Winery\, 34680 CA-79\, Warner Springs\, CA\, 92086
CATEGORIES:Live Music,Warner Springs
ATTACH;FMTTYPE=image/jpeg:https://madmikesstore.com/wp-content/uploads/2025/05/Warner-Springs-Wine-Art-Trail.jpg
END:VEVENT
BEGIN:VEVENT
DTSTART;TZID=America/Los_Angeles:20250617T110000
DTEND;TZID=America/Los_Angeles:20250617T150000
DTSTAMP:20260423T155121
CREATED:20250604T194142Z
LAST-MODIFIED:20250604T194405Z
UID:10935-1750158000-1750172400@madmikesstore.com
SUMMARY:Santa Ysabel Roadside 1 Year
DESCRIPTION:Join Mad Mike’s as we head out to celebrate \nSanta Ysabel Roadside’s 1 year of serving the community!!! \nJuly 17th from 11-3. There will be additional vendors there to help celebrate! \nThis will be another MAD (Making A Difference) Event \nfor us to continue helping support the community!
URL:https://madmikesstore.com/event/santa-ysabel-roadside-1-year/
LOCATION:Santa Ysabel Roadside\, 25575 Highway 79\, Santa Ysabel\, CA\, 92070\, United States
CATEGORIES:Julian
ATTACH;FMTTYPE=image/jpeg:https://madmikesstore.com/wp-content/uploads/2025/06/Roadside-1-yr.jpg
END:VEVENT
BEGIN:VEVENT
DTSTART;TZID=America/Los_Angeles:20250621T180000
DTEND;TZID=America/Los_Angeles:20250621T203000
DTSTAMP:20260423T155121
CREATED:20250306T004739Z
LAST-MODIFIED:20250528T190841Z
UID:10778-1750528800-1750537800@madmikesstore.com
SUMMARY:June Sausage Club Dinner
DESCRIPTION:Join us for our June Sausage Club Dinner at Vince’s Spaghetti Express in Temecula. \nDoors open at 5:30. \nDinner is 6:02-8:30. \nTraditional Family Italian Dinner \nwith a Mad Mike touch or two! \nYou don’t have to be a member to come\, \nbut you might be a member before you leave! \nMake your reservations by emailing events@madmikesstore.com
URL:https://madmikesstore.com/event/june-sausage-club-dinner/
LOCATION:Vince’s Spaghetti Express\, 28145 Jefferson Ave\, Temecula\, CA\, 92590\, United States
CATEGORIES:Temecula
ATTACH;FMTTYPE=image/jpeg:https://madmikesstore.com/wp-content/uploads/2025/03/Sausage-Club-IG-TBD.jpg
END:VEVENT
END:VCALENDAR